BEGIN:VCALENDAR
VERSION:2.0
PRODID:-//St. Anthony Mary Claret - ECPv6.15.14//NONSGML v1.0//EN
CALSCALE:GREGORIAN
METHOD:PUBLISH
X-WR-CALNAME:St. Anthony Mary Claret
X-ORIGINAL-URL:https://www.stanthonymaryclaret.org
X-WR-CALDESC:Events for St. Anthony Mary Claret
REFRESH-INTERVAL;VALUE=DURATION:PT1H
X-Robots-Tag:noindex
X-PUBLISHED-TTL:PT1H
BEGIN:VTIMEZONE
TZID:America/Los_Angeles
BEGIN:DAYLIGHT
TZOFFSETFROM:-0800
TZOFFSETTO:-0700
TZNAME:PDT
DTSTART:20250309T100000
END:DAYLIGHT
BEGIN:STANDARD
TZOFFSETFROM:-0700
TZOFFSETTO:-0800
TZNAME:PST
DTSTART:20251102T090000
END:STANDARD
BEGIN:DAYLIGHT
TZOFFSETFROM:-0800
TZOFFSETTO:-0700
TZNAME:PDT
DTSTART:20260308T100000
END:DAYLIGHT
BEGIN:STANDARD
TZOFFSETFROM:-0700
TZOFFSETTO:-0800
TZNAME:PST
DTSTART:20261101T090000
END:STANDARD
BEGIN:DAYLIGHT
TZOFFSETFROM:-0800
TZOFFSETTO:-0700
TZNAME:PDT
DTSTART:20270314T100000
END:DAYLIGHT
BEGIN:STANDARD
TZOFFSETFROM:-0700
TZOFFSETTO:-0800
TZNAME:PST
DTSTART:20271107T090000
END:STANDARD
END:VTIMEZONE
BEGIN:VEVENT
DTSTART;TZID=America/Los_Angeles:20260202T083000
DTEND;TZID=America/Los_Angeles:20260202T200000
DTSTAMP:20260424T011738
CREATED:20260114T204638Z
LAST-MODIFIED:20260114T204640Z
UID:1650-1770021000-1770062400@www.stanthonymaryclaret.org
SUMMARY:Feast of the Presentation of the Lord (Día de la Candelaria)
DESCRIPTION:Feast of the Presentation of the Lord\n\n\n\nThe Mass for the Feast of the Presentation of the Lord\, also known as Candlemas or Día de la Candelaria\, will be celebrated on Monday\, February 2. \n\n\n\nOn this day\, the Church commemorates the presentation of Jesus in the Temple and the purification of the Blessed Virgin Mary\, forty days after the birth of Christ. \n\n\n\nMass Schedule: \n\n\n\n\n8:30 a.m. – English Mass\n\n\n\n6:00 p.m. – Eucharistic Adoration\n\n\n\n7:00 p.m. – Spanish Mass\n\n\n\n\nParishioners are invited to bring their candles and statues of the Baby Jesus for a special blessing. \n\n\n\n \n\n\n\nFiesta de la Presentación del Señor\n\n\n\nLa Misa de la Fiesta de la Presentación del Señor\, también conocida como la Candelaria\, se celebrará el lunes 2 de febrero. \n\n\n\nEn este día\, la Iglesia conmemora la presentación de Jesús en el Templo y la purificación de la Santísima Virgen María\, cuarenta días después del nacimiento de Cristo. \n\n\n\nHorario: \n\n\n\n\n8:30 a.m. – Misa en inglés\n\n\n\n6:00 p.m. – Adoración Eucarística\n\n\n\n7:00 p.m. – Misa en español\n\n\n\n\nSe invita a los feligreses a traer sus velas y estatuas del Niño Jesús para recibir una bendición especial.
URL:https://www.stanthonymaryclaret.org/event/feast-of-the-presentation-of-the-lord-dia-de-la-candelaria/
ATTACH;FMTTYPE=image/png:https://www.stanthonymaryclaret.org/wp-content/uploads/2026/01/Fiesta-de-la-Virgen-de-la-Candelaria.png
END:VEVENT
END:VCALENDAR